BEGIN:VCALENDAR
VERSION:2.0
PRODID:-//https://calenda-formation.labocleo.org
X-WR-CALNAME:Calenda
X-WR-TIMEZONE:Europe/Paris
CALSCALE:GREGORIAN
X-WR-CALDESC:The calendar for arts, humanities and social sciences
METHOD:PUBLISH
BEGIN:VEVENT
DTSTART;VALUE=DATE:20100715
DTEND;VALUE=DATE:20100716
UID:200758-20100715@calenda.revues.org
SUMMARY:Societies in crisis and perspectives for development
URL:https://calenda-formation.labocleo.org/200758
DESCRIPTION:Les sociétés humaines connaissent\, à des rythmes variables selon les contextes\, des bouleversements de diverses natures qui peuvent déboucher sur des crises. Le terme de ‘’crise’’ peut recevoir diverses définitions et concerner de multiples domaines … @plus_info https://calenda-formation.labocleo.org/200758
LOCATION:Cotonou
END:VEVENT
END:VCALENDAR
