BEGIN:VCALENDAR
VERSION:2.0
PRODID:-//https://calenda-formation.labocleo.org
X-WR-CALNAME:Calenda
X-WR-TIMEZONE:Europe/Paris
CALSCALE:GREGORIAN
X-WR-CALDESC:The calendar for arts, humanities and social sciences
METHOD:PUBLISH
BEGIN:VEVENT
DTSTART;VALUE=DATE:20100905
DTEND;VALUE=DATE:20100906
UID:200776-20100905@calenda.revues.org
SUMMARY:RRAMSES. Risk representation: methodological and spatial approaches
URL:https://calenda-formation.labocleo.org/200776
DESCRIPTION:L'école thématique RRAMSES propose aux chercheurs en sciences humaines et sociales et aux gestionnaires des risques une formation avancée sur les méthodes d'évaluation des représentations des risques\, avec une approche spatialisée. … @plus_info https://calenda-formation.labocleo.org/200776
LOCATION:
END:VEVENT
END:VCALENDAR
