BEGIN:VCALENDAR
VERSION:2.0
PRODID:-//https://calenda-formation.labocleo.org
X-WR-CALNAME:Calenda
X-WR-TIMEZONE:Europe/Paris
CALSCALE:GREGORIAN
X-WR-CALDESC:Le calendrier des lettres et sciences humaines et sociales
METHOD:PUBLISH
BEGIN:VEVENT
DTSTART;VALUE=DATE:20100701
DTEND;VALUE=DATE:20100702
UID:200822-20100701@calenda.revues.org
SUMMARY:Québec et Haïti : l’histoire d’une solidarité renouvelée
URL:https://calenda-formation.labocleo.org/200822
DESCRIPTION:En lançant la revue en ligne www.HistoireEngagee.ca\, de jeunes chercheurs ont voulu offrir une histoire accessible\, liée davantage aux enjeux actuels et débordant le champ souvent trop restreint du domaine universitaire et des revues scientifiques… Weitere Informationen https://calenda-formation.labocleo.org/200822
LOCATION:
END:VEVENT
END:VCALENDAR
