BEGIN:VCALENDAR
VERSION:2.0
PRODID:-//https://calenda-formation.labocleo.org
X-WR-CALNAME:Calenda
X-WR-TIMEZONE:Europe/Paris
CALSCALE:GREGORIAN
X-WR-CALDESC:Le calendrier des lettres et sciences humaines et sociales
METHOD:PUBLISH
BEGIN:VEVENT
DTSTART;VALUE=DATE:20100416
DTEND;VALUE=DATE:20100417
UID:200839-20100416@calenda.revues.org
SUMMARY:Infraville
URL:https://calenda-formation.labocleo.org/200839
DESCRIPTION:La communauté des chercheurs est invitée à participer à un échange scientifique sur les relations qui se sont tissées entre les infrastructures\, l’architecture\, la ville et le territoire et continuent à travailler la théorie et la production de l’urb… Weitere Informationen https://calenda-formation.labocleo.org/200839
LOCATION:Paris
END:VEVENT
END:VCALENDAR
