BEGIN:VCALENDAR
VERSION:2.0
PRODID:-//https://calenda-formation.labocleo.org
X-WR-CALNAME:Calenda
X-WR-TIMEZONE:Europe/Paris
CALSCALE:GREGORIAN
X-WR-CALDESC:Le calendrier des lettres et sciences humaines et sociales
METHOD:PUBLISH
BEGIN:VEVENT
DTSTART;VALUE=DATE:20100507
DTEND;VALUE=DATE:20100508
UID:200842-20100507@calenda.revues.org
SUMMARY:Mémoire(s) en question(s)
URL:https://calenda-formation.labocleo.org/200842
DESCRIPTION:La mémoire collective propre à un mouvement politique\, un groupe ethnique\, une nation ou une société est au cœur de nombreuses recherches en sciences humaines (science politique\, sociologie\, histoire\, psychologie\, droit\, etc.). Dans ce contexte\, nous… Weitere Informationen https://calenda-formation.labocleo.org/200842
LOCATION:Lüttich
END:VEVENT
END:VCALENDAR
