BEGIN:VCALENDAR
VERSION:2.0
PRODID:-//https://calenda-formation.labocleo.org
X-WR-CALNAME:Calenda
X-WR-TIMEZONE:Europe/Paris
CALSCALE:GREGORIAN
X-WR-CALDESC:O calendário de letras e de ciências sociais e humanas
METHOD:PUBLISH
BEGIN:VEVENT
DTSTART;VALUE=DATE:20100430
DTEND;VALUE=DATE:20100501
UID:200843-20100430@calenda.revues.org
SUMMARY:Les Juifs polonais en France et en Israël :  trajectoires\, représentations\, instruments de la mémoire 
URL:https://calenda-formation.labocleo.org/200843
DESCRIPTION:Ce workshop s’inscrit dans un projet de recherche qui a pour objectif de mieux cerner les contours de deux diasporas juives polonaises importantes en France et en Israël. Deux communautés certes très différentes mais que plusieurs points de comparais… @plus_info https://calenda-formation.labocleo.org/200843
LOCATION:Varsóvia
END:VEVENT
END:VCALENDAR
