BEGIN:VCALENDAR
VERSION:2.0
PRODID:-//https://calenda-formation.labocleo.org
X-WR-CALNAME:Calenda
X-WR-TIMEZONE:Europe/Paris
CALSCALE:GREGORIAN
X-WR-CALDESC:Le calendrier des lettres et sciences humaines et sociales
METHOD:PUBLISH
BEGIN:VEVENT
DTSTART;VALUE=DATE:20100503
DTEND;VALUE=DATE:20100504
UID:200864-20100503@calenda.revues.org
SUMMARY:La loi sur le voile intégral : l'état du débat
URL:https://calenda-formation.labocleo.org/200864
DESCRIPTION:Cette table ronde propose de faire un état du débat en France (ses lieux\, ses protagonistes\, ses procédures) et d’analyser les argumentaires mobilisés ainsi que les travaux des commissions parlementaires (Stasi\, Gérin\, Raoult)\, au prisme de différent… Weitere Informationen https://calenda-formation.labocleo.org/200864
LOCATION:Paris
END:VEVENT
END:VCALENDAR
