BEGIN:VCALENDAR
VERSION:2.0
PRODID:-//https://calenda-formation.labocleo.org
X-WR-CALNAME:Calenda
X-WR-TIMEZONE:Europe/Paris
CALSCALE:GREGORIAN
X-WR-CALDESC:O calendário de letras e de ciências sociais e humanas
METHOD:PUBLISH
BEGIN:VEVENT
DTSTART;VALUE=DATE:20100529
DTEND;VALUE=DATE:20100530
UID:200897-20100529@calenda.revues.org
SUMMARY:Les marges périurbaines en Tunisie et en Méditerranée
URL:https://calenda-formation.labocleo.org/200897
DESCRIPTION:Ce colloque tente de réunir des chercheurs géographes et des spécialistes en sciences humaines et sociales ainsi que des praticiens de la sphère de l’aménagement du territoire autour du thème « Les marges périurbaines en Tunisie et en Méditerranée : … @plus_info https://calenda-formation.labocleo.org/200897
LOCATION:Tunes
END:VEVENT
END:VCALENDAR
