BEGIN:VCALENDAR
VERSION:2.0
PRODID:-//https://calenda-formation.labocleo.org
X-WR-CALNAME:Calenda
X-WR-TIMEZONE:Europe/Paris
CALSCALE:GREGORIAN
X-WR-CALDESC:The calendar for arts, humanities and social sciences
METHOD:PUBLISH
BEGIN:VEVENT
DTSTART;VALUE=DATE:20100608
DTEND;VALUE=DATE:20100609
UID:200960-20100608@calenda.revues.org
SUMMARY:(Self-)Requirements and Expectations of Extra-University Research Establishments in the Humanities and Social Sciences Abroad
URL:https://calenda-formation.labocleo.org/200960
DESCRIPTION:Vu les changements fondamentaux actuels des paysages de l’enseignement supérieure et de la recherche (processus de Bologna\, et en particulier la structuration de la formation doctorale\, les « initiatives d’excellence »\, évaluation régulière pour le f… @plus_info https://calenda-formation.labocleo.org/200960
LOCATION:Paris
END:VEVENT
END:VCALENDAR
