BEGIN:VCALENDAR
VERSION:2.0
PRODID:-//https://calenda-formation.labocleo.org
X-WR-CALNAME:Calenda
X-WR-TIMEZONE:Europe/Paris
CALSCALE:GREGORIAN
X-WR-CALDESC:The calendar for arts, humanities and social sciences
METHOD:PUBLISH
BEGIN:VEVENT
DTSTART;VALUE=DATE:20100603
DTEND;VALUE=DATE:20100604
UID:200973-20100603@calenda.revues.org
SUMMARY:Commitment\, Rebellion and Gender in Poor Suburban Neighborhoods in Europe\, 1968-2005
URL:https://calenda-formation.labocleo.org/200973
DESCRIPTION:En inscrivant la réflexion dans une perspective temporelle plus longue\, ouverte au moins depuis 1968\, en adoptant une approche comparée (à la fois dans le temps et dans l’espace)\, l’objectif de ce colloque est de comprendre les rébellions urbaines en… @plus_info https://calenda-formation.labocleo.org/200973
LOCATION:Lyon
END:VEVENT
BEGIN:VEVENT
DTSTART;VALUE=DATE:20100604
DTEND;VALUE=DATE:20100605
UID:200973-20100604@calenda.revues.org
SUMMARY:Commitment\, Rebellion and Gender in Poor Suburban Neighborhoods in Europe\, 1968-2005
URL:https://calenda-formation.labocleo.org/200973
DESCRIPTION:En inscrivant la réflexion dans une perspective temporelle plus longue\, ouverte au moins depuis 1968\, en adoptant une approche comparée (à la fois dans le temps et dans l’espace)\, l’objectif de ce colloque est de comprendre les rébellions urbaines en… @plus_info https://calenda-formation.labocleo.org/200973
LOCATION:Lyon
END:VEVENT
END:VCALENDAR
