BEGIN:VCALENDAR
VERSION:2.0
PRODID:-//https://calenda-formation.labocleo.org
X-WR-CALNAME:Calenda
X-WR-TIMEZONE:Europe/Paris
CALSCALE:GREGORIAN
X-WR-CALDESC:Le calendrier des lettres et sciences humaines et sociales
METHOD:PUBLISH
BEGIN:VEVENT
DTSTART;VALUE=DATE:20100610
DTEND;VALUE=DATE:20100611
UID:201000-20100610@calenda.revues.org
SUMMARY:Perspectives sur l'évolution et la création : entre savoir et spéculation
URL:https://calenda-formation.labocleo.org/201000
DESCRIPTION:Un siècle et demi après la controverse entre Thomas Huxley et Mgr Samuel Wiberforce sur l’origine de l’homme (30 juin 1860\, Oxford)\, les travaux de ce colloque reprendront pour les actualiser deux de ses principales problématiques : les rapports entr… @plus_info https://calenda-formation.labocleo.org/201000
LOCATION:Lyon
END:VEVENT
BEGIN:VEVENT
DTSTART;VALUE=DATE:20100611
DTEND;VALUE=DATE:20100612
UID:201000-20100611@calenda.revues.org
SUMMARY:Perspectives sur l'évolution et la création : entre savoir et spéculation
URL:https://calenda-formation.labocleo.org/201000
DESCRIPTION:Un siècle et demi après la controverse entre Thomas Huxley et Mgr Samuel Wiberforce sur l’origine de l’homme (30 juin 1860\, Oxford)\, les travaux de ce colloque reprendront pour les actualiser deux de ses principales problématiques : les rapports entr… @plus_info https://calenda-formation.labocleo.org/201000
LOCATION:Lyon
END:VEVENT
END:VCALENDAR
