BEGIN:VCALENDAR
VERSION:2.0
PRODID:-//https://calenda-formation.labocleo.org
X-WR-CALNAME:Calenda
X-WR-TIMEZONE:Europe/Paris
CALSCALE:GREGORIAN
X-WR-CALDESC:Le calendrier des lettres et sciences humaines et sociales
METHOD:PUBLISH
BEGIN:VEVENT
DTSTART;VALUE=DATE:20100521
DTEND;VALUE=DATE:20100522
UID:201036-20100521@calenda.revues.org
SUMMARY:Pratiques des espaces et innovation sociale : approche en laboratoire social par la recherche-action
URL:https://calenda-formation.labocleo.org/201036
DESCRIPTION:Le Laboratoire d'innovation sociale par la recherche-action continue une exploration des espaces\, leurs pratiques et leurs conséquences en termes de transformations sociales. Nous proposons ici l'exposé d'expérimentations sociales dans le cadre d'un … Weitere Informationen https://calenda-formation.labocleo.org/201036
LOCATION:Saint-Denis
END:VEVENT
BEGIN:VEVENT
DTSTART;VALUE=DATE:20101112
DTEND;VALUE=DATE:20101113
UID:201036-20101112@calenda.revues.org
SUMMARY:Pratiques des espaces et innovation sociale : approche en laboratoire social par la recherche-action
URL:https://calenda-formation.labocleo.org/201036
DESCRIPTION:Le Laboratoire d'innovation sociale par la recherche-action continue une exploration des espaces\, leurs pratiques et leurs conséquences en termes de transformations sociales. Nous proposons ici l'exposé d'expérimentations sociales dans le cadre d'un … Weitere Informationen https://calenda-formation.labocleo.org/201036
LOCATION:Saint-Denis
END:VEVENT
END:VCALENDAR
