BEGIN:VCALENDAR
VERSION:2.0
PRODID:-//https://calenda-formation.labocleo.org
X-WR-CALNAME:Calenda
X-WR-TIMEZONE:Europe/Paris
CALSCALE:GREGORIAN
X-WR-CALDESC:The calendar for arts, humanities and social sciences
METHOD:PUBLISH
BEGIN:VEVENT
DTSTART;VALUE=DATE:20100708
DTEND;VALUE=DATE:20100709
UID:201055-20100708@calenda.revues.org
SUMMARY:City and Nature 2010: towards a new alliance between the city and nature
URL:https://calenda-formation.labocleo.org/201055
DESCRIPTION:Ces deux journées d'études questionnent le rapport de la ville à la nature\, en particulier dans le contexte de projets d'aménagement à différentes échelles. Quels sont les rôles de la nature en ville ? Comment promouvoir la biodiversité dans l'aménag… @plus_info https://calenda-formation.labocleo.org/201055
LOCATION:Lausanne
END:VEVENT
BEGIN:VEVENT
DTSTART;VALUE=DATE:20100709
DTEND;VALUE=DATE:20100710
UID:201055-20100709@calenda.revues.org
SUMMARY:City and Nature 2010: towards a new alliance between the city and nature
URL:https://calenda-formation.labocleo.org/201055
DESCRIPTION:Ces deux journées d'études questionnent le rapport de la ville à la nature\, en particulier dans le contexte de projets d'aménagement à différentes échelles. Quels sont les rôles de la nature en ville ? Comment promouvoir la biodiversité dans l'aménag… @plus_info https://calenda-formation.labocleo.org/201055
LOCATION:Lausanne
END:VEVENT
END:VCALENDAR
