BEGIN:VCALENDAR
VERSION:2.0
PRODID:-//https://calenda-formation.labocleo.org
X-WR-CALNAME:Calenda
X-WR-TIMEZONE:Europe/Paris
CALSCALE:GREGORIAN
X-WR-CALDESC:Le calendrier des lettres et sciences humaines et sociales
METHOD:PUBLISH
BEGIN:VEVENT
DTSTART;VALUE=DATE:20100527
DTEND;VALUE=DATE:20100528
UID:201121-20100527@calenda.revues.org
SUMMARY:Normes\, pratiques\, analyse de pratiques
URL:https://calenda-formation.labocleo.org/201121
DESCRIPTION:ATTENTION : Cet évènement est reporté – informations à suivre  Le département des sciences de l'éducation et de la formation de l'université de Tours et le groupe de chercheurs en sciences de l'éducation de l'EA Dynadiv (Dynamique de la Diversité) or… Weitere Informationen https://calenda-formation.labocleo.org/201121
LOCATION:Tours
END:VEVENT
END:VCALENDAR
