BEGIN:VCALENDAR
VERSION:2.0
PRODID:-//https://calenda-formation.labocleo.org
X-WR-CALNAME:Calenda
X-WR-TIMEZONE:Europe/Paris
CALSCALE:GREGORIAN
X-WR-CALDESC:Le calendrier des lettres et sciences humaines et sociales
METHOD:PUBLISH
BEGIN:VEVENT
DTSTART;VALUE=DATE:20100715
DTEND;VALUE=DATE:20100716
UID:201161-20100715@calenda.revues.org
SUMMARY:La « question rom » en Europe aujourd'hui. Enjeux et modalités de la construction de problèmes publics émergents
URL:https://calenda-formation.labocleo.org/201161
DESCRIPTION:Le principal objectif de ce colloque est d’analyser les conditions d’émergence de la « question rom » en Europe aujourd’hui. On pourrait parler de « questions roms » au pluriel car\, de même que tous les problèmes publics\, la « question rom » n’existe… @plus_info https://calenda-formation.labocleo.org/201161
LOCATION:
END:VEVENT
END:VCALENDAR
