BEGIN:VCALENDAR
VERSION:2.0
PRODID:-//https://calenda-formation.labocleo.org
X-WR-CALNAME:Calenda
X-WR-TIMEZONE:Europe/Paris
CALSCALE:GREGORIAN
X-WR-CALDESC:Le calendrier des lettres et sciences humaines et sociales
METHOD:PUBLISH
BEGIN:VEVENT
DTSTART;VALUE=DATE:20100620
DTEND;VALUE=DATE:20100621
UID:201205-20100620@calenda.revues.org
SUMMARY:Être ou ne pas être balkanique\, les péripéties historiques d'une aire culturelle
URL:https://calenda-formation.labocleo.org/201205
DESCRIPTION:Dans ce numéro\, nous voudrions regrouper différentes recherches qui contribuent à présenter une argumentation précise\, à partir d'études de terrains qui s'articulent autour de cette interrogation sur l'existence et la persistance d'une unité « balkan… @plus_info https://calenda-formation.labocleo.org/201205
LOCATION:
END:VEVENT
END:VCALENDAR
