BEGIN:VCALENDAR
VERSION:2.0
PRODID:-//https://calenda-formation.labocleo.org
X-WR-CALNAME:Calenda
X-WR-TIMEZONE:Europe/Paris
CALSCALE:GREGORIAN
X-WR-CALDESC:The calendar for arts, humanities and social sciences
METHOD:PUBLISH
BEGIN:VEVENT
DTSTART;VALUE=DATE:20100617
DTEND;VALUE=DATE:20100618
UID:201230-20100617@calenda.revues.org
SUMMARY:Saint-Denis in History: Sources and Historiography (Middles Ages to the Modern Age)
URL:https://calenda-formation.labocleo.org/201230
DESCRIPTION:L’abbaye de Saint-Denis et le bourg monastique qui s’est développé autour d’elle ont joué pendant plusieurs siècles un rôle majeur sur le plan politique\, économique et culturel\, ce qui explique l’abondance et la variété de la documentation conservée.… @plus_info https://calenda-formation.labocleo.org/201230
LOCATION:Saint-Denis
END:VEVENT
END:VCALENDAR
