BEGIN:VCALENDAR
VERSION:2.0
PRODID:-//https://calenda-formation.labocleo.org
X-WR-CALNAME:Calenda
X-WR-TIMEZONE:Europe/Paris
CALSCALE:GREGORIAN
X-WR-CALDESC:O calendário de letras e de ciências sociais e humanas
METHOD:PUBLISH
BEGIN:VEVENT
DTSTART;VALUE=DATE:20100614
DTEND;VALUE=DATE:20100615
UID:201284-20100614@calenda.revues.org
SUMMARY:Les expositions universelles en France\,  au XIXe siècle. Techniques - Publics - Patrimoines
URL:https://calenda-formation.labocleo.org/201284
DESCRIPTION:Par leur prestige international\, par l’attrait qu’elles ont exercé sur le monde du négoce et de l’industrie\, par leur capacité à rassembler peuples et objets\, par les millions de visiteurs qu’elles ont attirés\, les expositions universelles ont été de… @plus_info https://calenda-formation.labocleo.org/201284
LOCATION:Paris
END:VEVENT
BEGIN:VEVENT
DTSTART;VALUE=DATE:20100615
DTEND;VALUE=DATE:20100616
UID:201284-20100615@calenda.revues.org
SUMMARY:Les expositions universelles en France\,  au XIXe siècle. Techniques - Publics - Patrimoines
URL:https://calenda-formation.labocleo.org/201284
DESCRIPTION:Par leur prestige international\, par l’attrait qu’elles ont exercé sur le monde du négoce et de l’industrie\, par leur capacité à rassembler peuples et objets\, par les millions de visiteurs qu’elles ont attirés\, les expositions universelles ont été de… @plus_info https://calenda-formation.labocleo.org/201284
LOCATION:Paris
END:VEVENT
BEGIN:VEVENT
DTSTART;VALUE=DATE:20100616
DTEND;VALUE=DATE:20100617
UID:201284-20100616@calenda.revues.org
SUMMARY:Les expositions universelles en France\,  au XIXe siècle. Techniques - Publics - Patrimoines
URL:https://calenda-formation.labocleo.org/201284
DESCRIPTION:Par leur prestige international\, par l’attrait qu’elles ont exercé sur le monde du négoce et de l’industrie\, par leur capacité à rassembler peuples et objets\, par les millions de visiteurs qu’elles ont attirés\, les expositions universelles ont été de… @plus_info https://calenda-formation.labocleo.org/201284
LOCATION:Paris
END:VEVENT
END:VCALENDAR
