BEGIN:VCALENDAR
VERSION:2.0
PRODID:-//https://calenda-formation.labocleo.org
X-WR-CALNAME:Calenda
X-WR-TIMEZONE:Europe/Paris
CALSCALE:GREGORIAN
X-WR-CALDESC:The calendar for arts, humanities and social sciences
METHOD:PUBLISH
BEGIN:VEVENT
DTSTART;VALUE=DATE:20100614
DTEND;VALUE=DATE:20100615
UID:201296-20100614@calenda.revues.org
SUMMARY:The Emperor in the Eastern Provinces of the Roman Empire\, Antonine and Severian periods (2010)
URL:https://calenda-formation.labocleo.org/201296
DESCRIPTION:Cette journée d'études est la première journée organisée par le nouveau programme GRECS\, « Les Grecs\, des Romains dans l'Empire : Culture et société  » \, sous la responsabilité d'Antony Hostein (MC d'Histoire romaine à Paris 1) et Sophie Lalanne (MC … @plus_info https://calenda-formation.labocleo.org/201296
LOCATION:Paris
END:VEVENT
END:VCALENDAR
