BEGIN:VCALENDAR
VERSION:2.0
PRODID:-//https://calenda-formation.labocleo.org
X-WR-CALNAME:Calenda
X-WR-TIMEZONE:Europe/Paris
CALSCALE:GREGORIAN
X-WR-CALDESC:The calendar for arts, humanities and social sciences
METHOD:PUBLISH
BEGIN:VEVENT
DTSTART;VALUE=DATE:20100614
DTEND;VALUE=DATE:20100615
UID:201338-20100614@calenda.revues.org
SUMMARY:Figures de l'imposture
URL:https://calenda-formation.labocleo.org/201338
DESCRIPTION:Figures de l'imposture comprend une journée d'étude\, articulée avec une exposition. Ces deux manifestations visent à affronter la question de l'imposture\, mais aussi à s'interroger sur les formes qu'elle peut prendre lors d'une rencontre entre artist… @plus_info https://calenda-formation.labocleo.org/201338
LOCATION:Paris
END:VEVENT
BEGIN:VEVENT
DTSTART;VALUE=DATE:20100615
DTEND;VALUE=DATE:20100616
UID:201338-20100615@calenda.revues.org
SUMMARY:Figures de l'imposture
URL:https://calenda-formation.labocleo.org/201338
DESCRIPTION:Figures de l'imposture comprend une journée d'étude\, articulée avec une exposition. Ces deux manifestations visent à affronter la question de l'imposture\, mais aussi à s'interroger sur les formes qu'elle peut prendre lors d'une rencontre entre artist… @plus_info https://calenda-formation.labocleo.org/201338
LOCATION:Paris
END:VEVENT
END:VCALENDAR
