BEGIN:VCALENDAR
VERSION:2.0
PRODID:-//https://calenda-formation.labocleo.org
X-WR-CALNAME:Calenda
X-WR-TIMEZONE:Europe/Paris
CALSCALE:GREGORIAN
X-WR-CALDESC:The calendar for arts, humanities and social sciences
METHOD:PUBLISH
BEGIN:VEVENT
DTSTART;VALUE=DATE:20100617
DTEND;VALUE=DATE:20100618
UID:201387-20100617@calenda.revues.org
SUMMARY:Enregistrer l'information. Cartulaires\, registres\, estimes...
URL:https://calenda-formation.labocleo.org/201387
DESCRIPTION:Dans le cadre du programme ANR Gouvaren - gouverner par l'enquête au Moyen Âge\, co-dirigé par Anne Mailloux et Laure Verdon\, est organisé à la Maison méditerranéenne des sciences de l'homme d'Aix-en-Provence\, le 17 juin 2010\, un deuxième séminaire de… @plus_info https://calenda-formation.labocleo.org/201387
LOCATION:Aix-en-Provence
END:VEVENT
END:VCALENDAR
