BEGIN:VCALENDAR
VERSION:2.0
PRODID:-//https://calenda-formation.labocleo.org
X-WR-CALNAME:Calenda
X-WR-TIMEZONE:Europe/Paris
CALSCALE:GREGORIAN
X-WR-CALDESC:Le calendrier des lettres et sciences humaines et sociales
METHOD:PUBLISH
BEGIN:VEVENT
DTSTART;VALUE=DATE:20100914
DTEND;VALUE=DATE:20100915
UID:201446-20100914@calenda.revues.org
SUMMARY:Hygiène et salubrité au XIXe siècle
URL:https://calenda-formation.labocleo.org/201446
DESCRIPTION:Gérard Jorland interroge l’histoire de nos institutions publiques\, et les raisons pour lesquelles la France tarde à appliquer les mesures d’hygiène permises par les découvertes scientifiques (chimie lavoisienne et révolution pasteurienne) contraireme… @plus_info https://calenda-formation.labocleo.org/201446
LOCATION:Nantes
END:VEVENT
END:VCALENDAR
