BEGIN:VCALENDAR
VERSION:2.0
PRODID:-//https://calenda-formation.labocleo.org
X-WR-CALNAME:Calenda
X-WR-TIMEZONE:Europe/Paris
CALSCALE:GREGORIAN
X-WR-CALDESC:O calendário de letras e de ciências sociais e humanas
METHOD:PUBLISH
BEGIN:VEVENT
DTSTART;VALUE=DATE:20100623
DTEND;VALUE=DATE:20100624
UID:201464-20100623@calenda.revues.org
SUMMARY:Au carrefour de deux bicentenaires : Juan Bautista Alberdi et la construction intellectuelle de l'indépendance argentine
URL:https://calenda-formation.labocleo.org/201464
DESCRIPTION:Juan Bautista Alberdi\, né en Argentine\, le 29 août 1810\, nous a légué une production intellectuelle considérable\, Son oeuvre a traversé les frontières nationales et a marqué la pensée politique et intellectuelle sudaméricaine. L’année 1810 fut marqua… @plus_info https://calenda-formation.labocleo.org/201464
LOCATION:Paris
END:VEVENT
BEGIN:VEVENT
DTSTART;VALUE=DATE:20100624
DTEND;VALUE=DATE:20100625
UID:201464-20100624@calenda.revues.org
SUMMARY:Au carrefour de deux bicentenaires : Juan Bautista Alberdi et la construction intellectuelle de l'indépendance argentine
URL:https://calenda-formation.labocleo.org/201464
DESCRIPTION:Juan Bautista Alberdi\, né en Argentine\, le 29 août 1810\, nous a légué une production intellectuelle considérable\, Son oeuvre a traversé les frontières nationales et a marqué la pensée politique et intellectuelle sudaméricaine. L’année 1810 fut marqua… @plus_info https://calenda-formation.labocleo.org/201464
LOCATION:Paris
END:VEVENT
BEGIN:VEVENT
DTSTART;VALUE=DATE:20100625
DTEND;VALUE=DATE:20100626
UID:201464-20100625@calenda.revues.org
SUMMARY:Au carrefour de deux bicentenaires : Juan Bautista Alberdi et la construction intellectuelle de l'indépendance argentine
URL:https://calenda-formation.labocleo.org/201464
DESCRIPTION:Juan Bautista Alberdi\, né en Argentine\, le 29 août 1810\, nous a légué une production intellectuelle considérable\, Son oeuvre a traversé les frontières nationales et a marqué la pensée politique et intellectuelle sudaméricaine. L’année 1810 fut marqua… @plus_info https://calenda-formation.labocleo.org/201464
LOCATION:Paris
END:VEVENT
END:VCALENDAR
