BEGIN:VCALENDAR
VERSION:2.0
PRODID:-//https://calenda-formation.labocleo.org
X-WR-CALNAME:Calenda
X-WR-TIMEZONE:Europe/Paris
CALSCALE:GREGORIAN
X-WR-CALDESC:The calendar for arts, humanities and social sciences
METHOD:PUBLISH
BEGIN:VEVENT
DTSTART;VALUE=DATE:20101101
DTEND;VALUE=DATE:20101102
UID:201489-20101101@calenda.revues.org
SUMMARY:Marc Bloch Prize in Modern European History\, 15th-21st centuries
URL:https://calenda-formation.labocleo.org/201489
DESCRIPTION:Prix Marc Bloch pour le meilleur Master (tous continents) en histoire moderne et contemporaine de l'Europe qui privilégie l'histoire comparé et trans-nationale en 2009 et 2010.… @plus_info https://calenda-formation.labocleo.org/201489
LOCATION:
END:VEVENT
END:VCALENDAR
