BEGIN:VCALENDAR
VERSION:2.0
PRODID:-//https://calenda-formation.labocleo.org
X-WR-CALNAME:Calenda
X-WR-TIMEZONE:Europe/Paris
CALSCALE:GREGORIAN
X-WR-CALDESC:Le calendrier des lettres et sciences humaines et sociales
METHOD:PUBLISH
BEGIN:VEVENT
DTSTART;VALUE=DATE:20100916
DTEND;VALUE=DATE:20100917
UID:201557-20100916@calenda.revues.org
SUMMARY:L'Antiquité tardive dans l'est de la Gaule\, II
URL:https://calenda-formation.labocleo.org/201557
DESCRIPTION:Ce colloque est destiné à rendre compte des travaux récents sur l'Antiquité tardive dans l'Est de la Gaule\, tant d'un point de vue archéologique qu'historique\, entre les années 260 et 500 ap. J.-C. Cette rencontre s'articule en deux parties : u… Más informaciones https://calenda-formation.labocleo.org/201557
LOCATION:Châlons-en-Champagne
END:VEVENT
BEGIN:VEVENT
DTSTART;VALUE=DATE:20100917
DTEND;VALUE=DATE:20100918
UID:201557-20100917@calenda.revues.org
SUMMARY:L'Antiquité tardive dans l'est de la Gaule\, II
URL:https://calenda-formation.labocleo.org/201557
DESCRIPTION:Ce colloque est destiné à rendre compte des travaux récents sur l'Antiquité tardive dans l'Est de la Gaule\, tant d'un point de vue archéologique qu'historique\, entre les années 260 et 500 ap. J.-C. Cette rencontre s'articule en deux parties : u… Más informaciones https://calenda-formation.labocleo.org/201557
LOCATION:Châlons-en-Champagne
END:VEVENT
END:VCALENDAR
