BEGIN:VCALENDAR
VERSION:2.0
PRODID:-//https://calenda-formation.labocleo.org
X-WR-CALNAME:Calenda
X-WR-TIMEZONE:Europe/Paris
CALSCALE:GREGORIAN
X-WR-CALDESC:Le calendrier des lettres et sciences humaines et sociales
METHOD:PUBLISH
BEGIN:VEVENT
DTSTART;VALUE=DATE:20100916
DTEND;VALUE=DATE:20100917
UID:201561-20100916@calenda.revues.org
SUMMARY:Masculin/Féminin : questions pour la géographie
URL:https://calenda-formation.labocleo.org/201561
DESCRIPTION:Alors que le nombre de publications sur les études de genre ne cesse de croître dans la plupart des disciplines des sciences sociales\, il nous est apparu important de faire le point sur l'apport spécifique qu'elles apportent à la géographie\, si l'on … Weitere Informationen https://calenda-formation.labocleo.org/201561
LOCATION:Pessac
END:VEVENT
BEGIN:VEVENT
DTSTART;VALUE=DATE:20100917
DTEND;VALUE=DATE:20100918
UID:201561-20100917@calenda.revues.org
SUMMARY:Masculin/Féminin : questions pour la géographie
URL:https://calenda-formation.labocleo.org/201561
DESCRIPTION:Alors que le nombre de publications sur les études de genre ne cesse de croître dans la plupart des disciplines des sciences sociales\, il nous est apparu important de faire le point sur l'apport spécifique qu'elles apportent à la géographie\, si l'on … Weitere Informationen https://calenda-formation.labocleo.org/201561
LOCATION:Pessac
END:VEVENT
BEGIN:VEVENT
DTSTART;VALUE=DATE:20100918
DTEND;VALUE=DATE:20100919
UID:201561-20100918@calenda.revues.org
SUMMARY:Masculin/Féminin : questions pour la géographie
URL:https://calenda-formation.labocleo.org/201561
DESCRIPTION:Alors que le nombre de publications sur les études de genre ne cesse de croître dans la plupart des disciplines des sciences sociales\, il nous est apparu important de faire le point sur l'apport spécifique qu'elles apportent à la géographie\, si l'on … Weitere Informationen https://calenda-formation.labocleo.org/201561
LOCATION:Pessac
END:VEVENT
END:VCALENDAR
