BEGIN:VCALENDAR
VERSION:2.0
PRODID:-//https://calenda-formation.labocleo.org
X-WR-CALNAME:Calenda
X-WR-TIMEZONE:Europe/Paris
CALSCALE:GREGORIAN
X-WR-CALDESC:O calendário de letras e de ciências sociais e humanas
METHOD:PUBLISH
BEGIN:VEVENT
DTSTART;VALUE=DATE:20100915
DTEND;VALUE=DATE:20100916
UID:201625-20100915@calenda.revues.org
SUMMARY:Penser le présent comme un passé pour demain
URL:https://calenda-formation.labocleo.org/201625
DESCRIPTION:Misant sur une rationalisation qu'Edgar Morin a qualifiée de maladie de la raison\, les Trente glorieuses\, enivrées par la notion de progrès\, auraient imprudemment déterminé leur présent en fonction d'un futur complaisamment fantasmé. Nous en serions … @plus_info https://calenda-formation.labocleo.org/201625
LOCATION:Brest
END:VEVENT
END:VCALENDAR
