BEGIN:VCALENDAR
VERSION:2.0
PRODID:-//https://calenda-formation.labocleo.org
X-WR-CALNAME:Calenda
X-WR-TIMEZONE:Europe/Paris
CALSCALE:GREGORIAN
X-WR-CALDESC:The calendar for arts, humanities and social sciences
METHOD:PUBLISH
BEGIN:VEVENT
DTSTART;VALUE=DATE:20101031
DTEND;VALUE=DATE:20101031
UID:201649-20101031@calenda.revues.org
SUMMARY:International Postdoctoral Mobility Program\, SHS "Fernand Braudel-IFER" - International Fellowships for Experienced Researchers
URL:https://calenda-formation.labocleo.org/201649
DESCRIPTION:La Fondation Maison des sciences de l’homme offre des bourses de recherche postdoctorale en sciences humaines et sociales d’une durée de 9 mois dans le cadre de son programme « Fernand Braudel-IFER » (International Fellowships for Experienced Researc… @plus_info https://calenda-formation.labocleo.org/201649
LOCATION:
END:VEVENT
END:VCALENDAR
