BEGIN:VCALENDAR
VERSION:2.0
PRODID:-//https://calenda-formation.labocleo.org
X-WR-CALNAME:Calenda
X-WR-TIMEZONE:Europe/Paris
CALSCALE:GREGORIAN
X-WR-CALDESC:The calendar for arts, humanities and social sciences
METHOD:PUBLISH
BEGIN:VEVENT
DTSTART;VALUE=DATE:20101130
DTEND;VALUE=DATE:20101201
UID:201852-20101130@calenda.revues.org
SUMMARY:The Commanding Heights of the European Union. The European Council: Institution\, Actors\, Ressources
URL:https://calenda-formation.labocleo.org/201852
DESCRIPTION:Se focalisant sur le Conseil européen\, ce colloque s’attachera\, en adoptant une perspective chronologique longue\, à comprendre les nouveautés induites par la configuration post-Lisbonne.  Il s'articulera autour de trois axes : - le Conseil européen d… @plus_info https://calenda-formation.labocleo.org/201852
LOCATION:Brussels
END:VEVENT
END:VCALENDAR
