BEGIN:VCALENDAR
VERSION:2.0
PRODID:-//https://calenda-formation.labocleo.org
X-WR-CALNAME:Calenda
X-WR-TIMEZONE:Europe/Paris
CALSCALE:GREGORIAN
X-WR-CALDESC:The calendar for arts, humanities and social sciences
METHOD:PUBLISH
BEGIN:VEVENT
DTSTART;VALUE=DATE:20101012
DTEND;VALUE=DATE:20101013
UID:201869-20101012@calenda.revues.org
SUMMARY:Les médiateurs de la Méditerranée (XIXe-XXe siècles)
URL:https://calenda-formation.labocleo.org/201869
DESCRIPTION:Dans le cadre du programme Médias\, écritures et représentations en Méditerranée de la MSH de Montpellier\, cette journée d'étude se propose d’étudier la Méditerranée ou les Méditerranées en réfléchissant aux médiateurs de langue française ou anglaise … @plus_info https://calenda-formation.labocleo.org/201869
LOCATION:Montpellier
END:VEVENT
END:VCALENDAR
