BEGIN:VCALENDAR
VERSION:2.0
PRODID:-//https://calenda-formation.labocleo.org
X-WR-CALNAME:Calenda
X-WR-TIMEZONE:Europe/Paris
CALSCALE:GREGORIAN
X-WR-CALDESC:The calendar for arts, humanities and social sciences
METHOD:PUBLISH
BEGIN:VEVENT
DTSTART;VALUE=DATE:20110318
DTEND;VALUE=DATE:20110319
UID:201928-20110318@calenda.revues.org
SUMMARY:What Gender Norms do to Trans-sexual Bodies & What Trans-sexual Bodies do to Gender Norms
URL:https://calenda-formation.labocleo.org/201928
DESCRIPTION:Journée d'étude franco-américaine autour de la révision de la CIM et du DSM.… @plus_info https://calenda-formation.labocleo.org/201928
LOCATION:Bordeaux
END:VEVENT
END:VCALENDAR
