BEGIN:VCALENDAR
VERSION:2.0
PRODID:-//https://calenda-formation.labocleo.org
X-WR-CALNAME:Calenda
X-WR-TIMEZONE:Europe/Paris
CALSCALE:GREGORIAN
X-WR-CALDESC:O calendário de letras e de ciências sociais e humanas
METHOD:PUBLISH
BEGIN:VEVENT
DTSTART;VALUE=DATE:20101110
DTEND;VALUE=DATE:20101111
UID:202005-20101110@calenda.revues.org
SUMMARY:Journée d'hommage à Ferdinand Léopold Oyono
URL:https://calenda-formation.labocleo.org/202005
DESCRIPTION:Ferdinand Léopold Oyono\, le Vieux Nègre\, s’en est allé\, laissant un héritage qu’il faut chaque jour découvrir. L’université de Yaoundé 1\, particulièrement la Faculté des Arts\, lettres et Sciences Humaines\, se propose de rendre hommage à l’illustre éc… @plus_info https://calenda-formation.labocleo.org/202005
LOCATION:Yaoundé
END:VEVENT
END:VCALENDAR
