BEGIN:VCALENDAR
VERSION:2.0
PRODID:-//https://calenda-formation.labocleo.org
X-WR-CALNAME:Calenda
X-WR-TIMEZONE:Europe/Paris
CALSCALE:GREGORIAN
X-WR-CALDESC:The calendar for arts, humanities and social sciences
METHOD:PUBLISH
BEGIN:VEVENT
DTSTART;VALUE=DATE:20101201
DTEND;VALUE=DATE:20101202
UID:202023-20101201@calenda.revues.org
SUMMARY:From One Boundary to Another. Conceiving\, Defining and Representing the Notion of the Boundary
URL:https://calenda-formation.labocleo.org/202023
DESCRIPTION:Le contexte actuel de la mondialisation de l’économie ainsi que du développement accéléré des télécommunications et des échanges culturels peut parfois laisser l’impression que les frontières tendent à se détériorer\, voire à s’effacer. Pourtant\, elle… @plus_info https://calenda-formation.labocleo.org/202023
LOCATION:Sherbrooke
END:VEVENT
END:VCALENDAR
