BEGIN:VCALENDAR
VERSION:2.0
PRODID:-//https://calenda-formation.labocleo.org
X-WR-CALNAME:Calenda
X-WR-TIMEZONE:Europe/Paris
CALSCALE:GREGORIAN
X-WR-CALDESC:Le calendrier des lettres et sciences humaines et sociales
METHOD:PUBLISH
BEGIN:VEVENT
DTSTART;VALUE=DATE:20110228
DTEND;VALUE=DATE:20110301
UID:202134-20110228@calenda.revues.org
SUMMARY:Fonctions\, utilisations et représentations de l’espace dans les sépultures monumentales du néolithique européen
URL:https://calenda-formation.labocleo.org/202134
DESCRIPTION:Le Laboratoire méditerranéen de préhistoire Europe Afrique (UMR 6636 LaMPEA) organise un colloque international sur le thème suivant : « Fonctions\, utilisations\, et représentations de l’espace dans les sépultures monumentales du Néolithique européen … Weitere Informationen https://calenda-formation.labocleo.org/202134
LOCATION:Aix-en-Provence
END:VEVENT
END:VCALENDAR
