BEGIN:VCALENDAR
VERSION:2.0
PRODID:-//https://calenda-formation.labocleo.org
X-WR-CALNAME:Calenda
X-WR-TIMEZONE:Europe/Paris
CALSCALE:GREGORIAN
X-WR-CALDESC:Le calendrier des lettres et sciences humaines et sociales
METHOD:PUBLISH
BEGIN:VEVENT
DTSTART;VALUE=DATE:20101206
DTEND;VALUE=DATE:20101207
UID:202135-20101206@calenda.revues.org
SUMMARY:Cocoon communities: Togetherness in the 21st century
URL:https://calenda-formation.labocleo.org/202135
DESCRIPTION:In this volume\, we wish to look at a special case of togetherness\, which we propose to call cocoon communities. Cocoon communities neither represent nor correspond to the ideal-type of community. At first sight\, they do not seem to have much in commo… Weitere Informationen https://calenda-formation.labocleo.org/202135
LOCATION:
END:VEVENT
END:VCALENDAR
