BEGIN:VCALENDAR
VERSION:2.0
PRODID:-//https://calenda-formation.labocleo.org
X-WR-CALNAME:Calenda
X-WR-TIMEZONE:Europe/Paris
CALSCALE:GREGORIAN
X-WR-CALDESC:Le calendrier des lettres et sciences humaines et sociales
METHOD:PUBLISH
BEGIN:VEVENT
DTSTART;VALUE=DATE:20101021
DTEND;VALUE=DATE:20101022
UID:202187-20101021@calenda.revues.org
SUMMARY:Bioéthique\, biodiversité
URL:https://calenda-formation.labocleo.org/202187
DESCRIPTION:Dans le cadre de la Fête de la science\, le jeudi 21 octobre 2010\, le département de sociologie et l’UFR arts et sciences humaines\, avec la collaboration de l’UMR 6173 CITERES de l’université François Rabelais de Tours\, proposent une série de courtes … Weitere Informationen https://calenda-formation.labocleo.org/202187
LOCATION:Tours
END:VEVENT
END:VCALENDAR
