BEGIN:VCALENDAR
VERSION:2.0
PRODID:-//https://calenda-formation.labocleo.org
X-WR-CALNAME:Calenda
X-WR-TIMEZONE:Europe/Paris
CALSCALE:GREGORIAN
X-WR-CALDESC:The calendar for arts, humanities and social sciences
METHOD:PUBLISH
BEGIN:VEVENT
DTSTART;VALUE=DATE:20101025
DTEND;VALUE=DATE:20101026
UID:202218-20101025@calenda.revues.org
SUMMARY:Empresses\, Princesses\, Aristocrats and Sovereign Saints of the East
URL:https://calenda-formation.labocleo.org/202218
DESCRIPTION:La journée du 25 octobre clôt le cycle : Impératrices\, princesses\, aristocrates et saintes souveraines de l’Orient. L'intérêt se porte particulièrement sur les frontières: frontières entre deux mondes: empires byzantin et ottoman et entre disciplines… @plus_info https://calenda-formation.labocleo.org/202218
LOCATION:Aix-en-Provence
END:VEVENT
END:VCALENDAR
