BEGIN:VCALENDAR
VERSION:2.0
PRODID:-//https://calenda-formation.labocleo.org
X-WR-CALNAME:Calenda
X-WR-TIMEZONE:Europe/Paris
CALSCALE:GREGORIAN
X-WR-CALDESC:Le calendrier des lettres et sciences humaines et sociales
METHOD:PUBLISH
BEGIN:VEVENT
DTSTART;VALUE=DATE:20101215
DTEND;VALUE=DATE:20101216
UID:202227-20101215@calenda.revues.org
SUMMARY:Deux postes de boursiers d'aide à la mobilité (BAM) en sciences humaines et sociales (Tunisie)
URL:https://calenda-formation.labocleo.org/202227
DESCRIPTION:Appel à candidatures - Doctorants. Deux postes de boursier d’aide à la mobilité (BAM) en sciences humaines et sociales sont susceptibles d’être vacants au 1er septembre 2011 à l'Institut de recherche sur le Maghreb contemporain (IRMC) - Tunis.… @plus_info https://calenda-formation.labocleo.org/202227
LOCATION:Tunis
END:VEVENT
END:VCALENDAR
