BEGIN:VCALENDAR
VERSION:2.0
PRODID:-//https://calenda-formation.labocleo.org
X-WR-CALNAME:Calenda
X-WR-TIMEZONE:Europe/Paris
CALSCALE:GREGORIAN
X-WR-CALDESC:Le calendrier des lettres et sciences humaines et sociales
METHOD:PUBLISH
BEGIN:VEVENT
DTSTART;VALUE=DATE:20101130
DTEND;VALUE=DATE:20101201
UID:202243-20101130@calenda.revues.org
SUMMARY:Réseaux sociaux et partage des informations
URL:https://calenda-formation.labocleo.org/202243
DESCRIPTION:Le Département de communication (université de Bahreïn) organise la deuxième édition du colloque international sur les nouveaux médias (réseaux sociaux et partage des informations)\, qui se tiendra les 6 et 7 avril 2011 à l’université de Bahreïn.… @plus_info https://calenda-formation.labocleo.org/202243
LOCATION:Manama
END:VEVENT
END:VCALENDAR
