BEGIN:VCALENDAR
VERSION:2.0
PRODID:-//https://calenda-formation.labocleo.org
X-WR-CALNAME:Calenda
X-WR-TIMEZONE:Europe/Paris
CALSCALE:GREGORIAN
X-WR-CALDESC:Le calendrier des lettres et sciences humaines et sociales
METHOD:PUBLISH
BEGIN:VEVENT
DTSTART;VALUE=DATE:20101118
DTEND;VALUE=DATE:20101119
UID:202245-20101118@calenda.revues.org
SUMMARY:Machinae spirituales. Les retables baroques dans les Pays-Bas méridionaux
URL:https://calenda-formation.labocleo.org/202245
DESCRIPTION:Le présent colloque a pour ambition de comparer les options formelles développées dans différents pays européens au XVIIe siècle et d’analyser les interactions entre pratiques spirituelles et artistiques. Il s’agira notamment de mettre en évidence le… @plus_info https://calenda-formation.labocleo.org/202245
LOCATION:Bruxelles
END:VEVENT
BEGIN:VEVENT
DTSTART;VALUE=DATE:20101119
DTEND;VALUE=DATE:20101120
UID:202245-20101119@calenda.revues.org
SUMMARY:Machinae spirituales. Les retables baroques dans les Pays-Bas méridionaux
URL:https://calenda-formation.labocleo.org/202245
DESCRIPTION:Le présent colloque a pour ambition de comparer les options formelles développées dans différents pays européens au XVIIe siècle et d’analyser les interactions entre pratiques spirituelles et artistiques. Il s’agira notamment de mettre en évidence le… @plus_info https://calenda-formation.labocleo.org/202245
LOCATION:Bruxelles
END:VEVENT
END:VCALENDAR
