BEGIN:VCALENDAR
VERSION:2.0
PRODID:-//https://calenda-formation.labocleo.org
X-WR-CALNAME:Calenda
X-WR-TIMEZONE:Europe/Paris
CALSCALE:GREGORIAN
X-WR-CALDESC:O calendário de letras e de ciências sociais e humanas
METHOD:PUBLISH
BEGIN:VEVENT
DTSTART;VALUE=DATE:20101112
DTEND;VALUE=DATE:20101113
UID:202249-20101112@calenda.revues.org
SUMMARY:La culture turque dans une perspective européenne : perceptions\, mécanismes et acteurs
URL:https://calenda-formation.labocleo.org/202249
DESCRIPTION:Ce colloque se situe dans le fil direct à la fois de la saison de la Turquie en France\, de « 2010\, l’année internationale du rapprochement des cultures »\, adoptée le 2 novembre 2007 par l’UNESCO dans sa résolution 46 sur le rapport de la Commission d… @plus_info https://calenda-formation.labocleo.org/202249
LOCATION:Paris
END:VEVENT
END:VCALENDAR
