BEGIN:VCALENDAR
VERSION:2.0
PRODID:-//https://calenda-formation.labocleo.org
X-WR-CALNAME:Calenda
X-WR-TIMEZONE:Europe/Paris
CALSCALE:GREGORIAN
X-WR-CALDESC:The calendar for arts, humanities and social sciences
METHOD:PUBLISH
BEGIN:VEVENT
DTSTART;VALUE=DATE:20110115
DTEND;VALUE=DATE:20110116
UID:202260-20110115@calenda.revues.org
SUMMARY:Ordo. 8th annual symposium of the International Medieval Society 
URL:https://calenda-formation.labocleo.org/202260
DESCRIPTION:La Société internationale des médiévistes de Paris (IMS-Paris) sollicite l’envoi de communications et de thèmes de sessions complètes pour son colloque 2011 portant sur le thème d’ordo dans la France médiévale. … @plus_info https://calenda-formation.labocleo.org/202260
LOCATION:Paris
END:VEVENT
END:VCALENDAR
