BEGIN:VCALENDAR
VERSION:2.0
PRODID:-//https://calenda-formation.labocleo.org
X-WR-CALNAME:Calenda
X-WR-TIMEZONE:Europe/Paris
CALSCALE:GREGORIAN
X-WR-CALDESC:The calendar for arts, humanities and social sciences
METHOD:PUBLISH
BEGIN:VEVENT
DTSTART;VALUE=DATE:20101126
DTEND;VALUE=DATE:20101127
UID:202266-20101126@calenda.revues.org
SUMMARY:Copy and Imitation\, Sources of Creation in Textile Production from the Middle Ages to the Present Day
URL:https://calenda-formation.labocleo.org/202266
DESCRIPTION:Ce colloque\, organisé par l'Association Française d'Etude sur le Textile (AFET) en collaboration avec le Musée des Tissus de Lyon et le Laboratoire de Recherche Historique Rhône-Alpes (LARHRA UMR 5190) s'organise autour de plusieurs thématiques. … @plus_info https://calenda-formation.labocleo.org/202266
LOCATION:Lyon
END:VEVENT
BEGIN:VEVENT
DTSTART;VALUE=DATE:20101127
DTEND;VALUE=DATE:20101128
UID:202266-20101127@calenda.revues.org
SUMMARY:Copy and Imitation\, Sources of Creation in Textile Production from the Middle Ages to the Present Day
URL:https://calenda-formation.labocleo.org/202266
DESCRIPTION:Ce colloque\, organisé par l'Association Française d'Etude sur le Textile (AFET) en collaboration avec le Musée des Tissus de Lyon et le Laboratoire de Recherche Historique Rhône-Alpes (LARHRA UMR 5190) s'organise autour de plusieurs thématiques. … @plus_info https://calenda-formation.labocleo.org/202266
LOCATION:Lyon
END:VEVENT
END:VCALENDAR
