BEGIN:VCALENDAR
VERSION:2.0
PRODID:-//https://calenda-formation.labocleo.org
X-WR-CALNAME:Calenda
X-WR-TIMEZONE:Europe/Paris
CALSCALE:GREGORIAN
X-WR-CALDESC:The calendar for arts, humanities and social sciences
METHOD:PUBLISH
BEGIN:VEVENT
DTSTART;VALUE=DATE:20101124
DTEND;VALUE=DATE:20101125
UID:202280-20101124@calenda.revues.org
SUMMARY:Listening in the theatre and cinema  (2nd year): redefining the concept of the "sound-track"
URL:https://calenda-formation.labocleo.org/202280
DESCRIPTION:Ce séminaire interdisciplinaire s’inscrit dans une recherche internationale en cours (« Le son du théâtre/ Theatre Sound ») un partenariat entre l’ARIAS/CNRS et le CRI de Montréal\, qui prend pour objet la dimension sonore du théâtre\, presque totaleme… @plus_info https://calenda-formation.labocleo.org/202280
LOCATION:Paris
END:VEVENT
BEGIN:VEVENT
DTSTART;VALUE=DATE:20101215
DTEND;VALUE=DATE:20101216
UID:202280-20101215@calenda.revues.org
SUMMARY:Listening in the theatre and cinema  (2nd year): redefining the concept of the "sound-track"
URL:https://calenda-formation.labocleo.org/202280
DESCRIPTION:Ce séminaire interdisciplinaire s’inscrit dans une recherche internationale en cours (« Le son du théâtre/ Theatre Sound ») un partenariat entre l’ARIAS/CNRS et le CRI de Montréal\, qui prend pour objet la dimension sonore du théâtre\, presque totaleme… @plus_info https://calenda-formation.labocleo.org/202280
LOCATION:Paris
END:VEVENT
BEGIN:VEVENT
DTSTART;VALUE=DATE:20110119
DTEND;VALUE=DATE:20110120
UID:202280-20110119@calenda.revues.org
SUMMARY:Listening in the theatre and cinema  (2nd year): redefining the concept of the "sound-track"
URL:https://calenda-formation.labocleo.org/202280
DESCRIPTION:Ce séminaire interdisciplinaire s’inscrit dans une recherche internationale en cours (« Le son du théâtre/ Theatre Sound ») un partenariat entre l’ARIAS/CNRS et le CRI de Montréal\, qui prend pour objet la dimension sonore du théâtre\, presque totaleme… @plus_info https://calenda-formation.labocleo.org/202280
LOCATION:Paris
END:VEVENT
BEGIN:VEVENT
DTSTART;VALUE=DATE:20110223
DTEND;VALUE=DATE:20110224
UID:202280-20110223@calenda.revues.org
SUMMARY:Listening in the theatre and cinema  (2nd year): redefining the concept of the "sound-track"
URL:https://calenda-formation.labocleo.org/202280
DESCRIPTION:Ce séminaire interdisciplinaire s’inscrit dans une recherche internationale en cours (« Le son du théâtre/ Theatre Sound ») un partenariat entre l’ARIAS/CNRS et le CRI de Montréal\, qui prend pour objet la dimension sonore du théâtre\, presque totaleme… @plus_info https://calenda-formation.labocleo.org/202280
LOCATION:Paris
END:VEVENT
BEGIN:VEVENT
DTSTART;VALUE=DATE:20110330
DTEND;VALUE=DATE:20110331
UID:202280-20110330@calenda.revues.org
SUMMARY:Listening in the theatre and cinema  (2nd year): redefining the concept of the "sound-track"
URL:https://calenda-formation.labocleo.org/202280
DESCRIPTION:Ce séminaire interdisciplinaire s’inscrit dans une recherche internationale en cours (« Le son du théâtre/ Theatre Sound ») un partenariat entre l’ARIAS/CNRS et le CRI de Montréal\, qui prend pour objet la dimension sonore du théâtre\, presque totaleme… @plus_info https://calenda-formation.labocleo.org/202280
LOCATION:Paris
END:VEVENT
BEGIN:VEVENT
DTSTART;VALUE=DATE:20110413
DTEND;VALUE=DATE:20110414
UID:202280-20110413@calenda.revues.org
SUMMARY:Listening in the theatre and cinema  (2nd year): redefining the concept of the "sound-track"
URL:https://calenda-formation.labocleo.org/202280
DESCRIPTION:Ce séminaire interdisciplinaire s’inscrit dans une recherche internationale en cours (« Le son du théâtre/ Theatre Sound ») un partenariat entre l’ARIAS/CNRS et le CRI de Montréal\, qui prend pour objet la dimension sonore du théâtre\, presque totaleme… @plus_info https://calenda-formation.labocleo.org/202280
LOCATION:Paris
END:VEVENT
BEGIN:VEVENT
DTSTART;VALUE=DATE:20110511
DTEND;VALUE=DATE:20110512
UID:202280-20110511@calenda.revues.org
SUMMARY:Listening in the theatre and cinema  (2nd year): redefining the concept of the "sound-track"
URL:https://calenda-formation.labocleo.org/202280
DESCRIPTION:Ce séminaire interdisciplinaire s’inscrit dans une recherche internationale en cours (« Le son du théâtre/ Theatre Sound ») un partenariat entre l’ARIAS/CNRS et le CRI de Montréal\, qui prend pour objet la dimension sonore du théâtre\, presque totaleme… @plus_info https://calenda-formation.labocleo.org/202280
LOCATION:Paris
END:VEVENT
END:VCALENDAR
