BEGIN:VCALENDAR
VERSION:2.0
PRODID:-//https://calenda-formation.labocleo.org
X-WR-CALNAME:Calenda
X-WR-TIMEZONE:Europe/Paris
CALSCALE:GREGORIAN
X-WR-CALDESC:Le calendrier des lettres et sciences humaines et sociales
METHOD:PUBLISH
BEGIN:VEVENT
DTSTART;VALUE=DATE:20120101
DTEND;VALUE=DATE:20120102
UID:202302-20120101@calenda.revues.org
SUMMARY:Revue ThéoRèmes
URL:https://calenda-formation.labocleo.org/202302
DESCRIPTION:ThéoRèmes est une revue à comité de lecture et accès libre\, hébergée par Revues.org.  Elle publie à la fois des travaux sur les questions philosophiques des approches empiriques des religions et des travaux empiriques sur les religions. Nous invitons… Weitere Informationen https://calenda-formation.labocleo.org/202302
LOCATION:
END:VEVENT
END:VCALENDAR
