BEGIN:VCALENDAR
VERSION:2.0
PRODID:-//https://calenda-formation.labocleo.org
X-WR-CALNAME:Calenda
X-WR-TIMEZONE:Europe/Paris
CALSCALE:GREGORIAN
X-WR-CALDESC:The calendar for arts, humanities and social sciences
METHOD:PUBLISH
BEGIN:VEVENT
DTSTART;VALUE=DATE:20101102
DTEND;VALUE=DATE:20101103
UID:202311-20101102@calenda.revues.org
SUMMARY:Literature and Ethnography: Dependencies and Articulations (19th-20th c.)
URL:https://calenda-formation.labocleo.org/202311
DESCRIPTION:Ciclo de 4 sessões que expõem a investigação em curso sobre as relações entre os processos de formação do saber etnográfico em Portugal e a exploração de dispositivos literários específicos com intencionalidade expressiva do “ethnos”.… @plus_info https://calenda-formation.labocleo.org/202311
LOCATION:Lisbon
END:VEVENT
BEGIN:VEVENT
DTSTART;VALUE=DATE:20101109
DTEND;VALUE=DATE:20101110
UID:202311-20101109@calenda.revues.org
SUMMARY:Literature and Ethnography: Dependencies and Articulations (19th-20th c.)
URL:https://calenda-formation.labocleo.org/202311
DESCRIPTION:Ciclo de 4 sessões que expõem a investigação em curso sobre as relações entre os processos de formação do saber etnográfico em Portugal e a exploração de dispositivos literários específicos com intencionalidade expressiva do “ethnos”.… @plus_info https://calenda-formation.labocleo.org/202311
LOCATION:Lisbon
END:VEVENT
BEGIN:VEVENT
DTSTART;VALUE=DATE:20101116
DTEND;VALUE=DATE:20101117
UID:202311-20101116@calenda.revues.org
SUMMARY:Literature and Ethnography: Dependencies and Articulations (19th-20th c.)
URL:https://calenda-formation.labocleo.org/202311
DESCRIPTION:Ciclo de 4 sessões que expõem a investigação em curso sobre as relações entre os processos de formação do saber etnográfico em Portugal e a exploração de dispositivos literários específicos com intencionalidade expressiva do “ethnos”.… @plus_info https://calenda-formation.labocleo.org/202311
LOCATION:Lisbon
END:VEVENT
BEGIN:VEVENT
DTSTART;VALUE=DATE:20101123
DTEND;VALUE=DATE:20101124
UID:202311-20101123@calenda.revues.org
SUMMARY:Literature and Ethnography: Dependencies and Articulations (19th-20th c.)
URL:https://calenda-formation.labocleo.org/202311
DESCRIPTION:Ciclo de 4 sessões que expõem a investigação em curso sobre as relações entre os processos de formação do saber etnográfico em Portugal e a exploração de dispositivos literários específicos com intencionalidade expressiva do “ethnos”.… @plus_info https://calenda-formation.labocleo.org/202311
LOCATION:Lisbon
END:VEVENT
END:VCALENDAR
