BEGIN:VCALENDAR
VERSION:2.0
PRODID:-//https://calenda-formation.labocleo.org
X-WR-CALNAME:Calenda
X-WR-TIMEZONE:Europe/Paris
CALSCALE:GREGORIAN
X-WR-CALDESC:The calendar for arts, humanities and social sciences
METHOD:PUBLISH
BEGIN:VEVENT
DTSTART;VALUE=DATE:20101227
DTEND;VALUE=DATE:20101228
UID:202319-20101227@calenda.revues.org
SUMMARY:Rock and Heavy Metal from the Social Science Perspective
URL:https://calenda-formation.labocleo.org/202319
DESCRIPTION:Le GREMES (Groupe de recherche et d'étude de la musique et de la socialité\, université Paris 5\, laboratoire du CEAQ) propose une journée d’étude visant à présenter les différentes recherches en cours sur les musiques rock et metal. Cet appel à commun… @plus_info https://calenda-formation.labocleo.org/202319
LOCATION:Paris
END:VEVENT
END:VCALENDAR
