BEGIN:VCALENDAR
VERSION:2.0
PRODID:-//https://calenda-formation.labocleo.org
X-WR-CALNAME:Calenda
X-WR-TIMEZONE:Europe/Paris
CALSCALE:GREGORIAN
X-WR-CALDESC:The calendar for arts, humanities and social sciences
METHOD:PUBLISH
BEGIN:VEVENT
DTSTART;VALUE=DATE:20101127
DTEND;VALUE=DATE:20101128
UID:202395-20101127@calenda.revues.org
SUMMARY:The Police and 'Gendarmes' under Napoleonic Europe
URL:https://calenda-formation.labocleo.org/202395
DESCRIPTION:Colloque organisé par l’Institut Napoléon\, le Centre de recherches en histoire du XIXe siècle (Paris I-Paris IV) et la Bibliothèque Marmottan.… @plus_info https://calenda-formation.labocleo.org/202395
LOCATION:Boulogne-Billancourt
END:VEVENT
END:VCALENDAR
