BEGIN:VCALENDAR
VERSION:2.0
PRODID:-//https://calenda-formation.labocleo.org
X-WR-CALNAME:Calenda
X-WR-TIMEZONE:Europe/Paris
CALSCALE:GREGORIAN
X-WR-CALDESC:Le calendrier des lettres et sciences humaines et sociales
METHOD:PUBLISH
BEGIN:VEVENT
DTSTART;VALUE=DATE:20101203
DTEND;VALUE=DATE:20101204
UID:202412-20101203@calenda.revues.org
SUMMARY:Nouveaux territoires médiatiques
URL:https://calenda-formation.labocleo.org/202412
DESCRIPTION:Sous le titre « Nouveaux territoires médiatiques »\, le Centre d'études sur les médias\, les technologies et l'internationalisation (CEMTI - EA 3388\, Université Paris 8) organise un séminaire mensuel dont l'objectif est d'analyser\, selon diverses appro… Weitere Informationen https://calenda-formation.labocleo.org/202412
LOCATION:Saint-Denis
END:VEVENT
BEGIN:VEVENT
DTSTART;VALUE=DATE:20110114
DTEND;VALUE=DATE:20110115
UID:202412-20110114@calenda.revues.org
SUMMARY:Nouveaux territoires médiatiques
URL:https://calenda-formation.labocleo.org/202412
DESCRIPTION:Sous le titre « Nouveaux territoires médiatiques »\, le Centre d'études sur les médias\, les technologies et l'internationalisation (CEMTI - EA 3388\, Université Paris 8) organise un séminaire mensuel dont l'objectif est d'analyser\, selon diverses appro… Weitere Informationen https://calenda-formation.labocleo.org/202412
LOCATION:Saint-Denis
END:VEVENT
BEGIN:VEVENT
DTSTART;VALUE=DATE:20110225
DTEND;VALUE=DATE:20110226
UID:202412-20110225@calenda.revues.org
SUMMARY:Nouveaux territoires médiatiques
URL:https://calenda-formation.labocleo.org/202412
DESCRIPTION:Sous le titre « Nouveaux territoires médiatiques »\, le Centre d'études sur les médias\, les technologies et l'internationalisation (CEMTI - EA 3388\, Université Paris 8) organise un séminaire mensuel dont l'objectif est d'analyser\, selon diverses appro… Weitere Informationen https://calenda-formation.labocleo.org/202412
LOCATION:Saint-Denis
END:VEVENT
BEGIN:VEVENT
DTSTART;VALUE=DATE:20110325
DTEND;VALUE=DATE:20110326
UID:202412-20110325@calenda.revues.org
SUMMARY:Nouveaux territoires médiatiques
URL:https://calenda-formation.labocleo.org/202412
DESCRIPTION:Sous le titre « Nouveaux territoires médiatiques »\, le Centre d'études sur les médias\, les technologies et l'internationalisation (CEMTI - EA 3388\, Université Paris 8) organise un séminaire mensuel dont l'objectif est d'analyser\, selon diverses appro… Weitere Informationen https://calenda-formation.labocleo.org/202412
LOCATION:Saint-Denis
END:VEVENT
BEGIN:VEVENT
DTSTART;VALUE=DATE:20110429
DTEND;VALUE=DATE:20110430
UID:202412-20110429@calenda.revues.org
SUMMARY:Nouveaux territoires médiatiques
URL:https://calenda-formation.labocleo.org/202412
DESCRIPTION:Sous le titre « Nouveaux territoires médiatiques »\, le Centre d'études sur les médias\, les technologies et l'internationalisation (CEMTI - EA 3388\, Université Paris 8) organise un séminaire mensuel dont l'objectif est d'analyser\, selon diverses appro… Weitere Informationen https://calenda-formation.labocleo.org/202412
LOCATION:Saint-Denis
END:VEVENT
BEGIN:VEVENT
DTSTART;VALUE=DATE:20110527
DTEND;VALUE=DATE:20110528
UID:202412-20110527@calenda.revues.org
SUMMARY:Nouveaux territoires médiatiques
URL:https://calenda-formation.labocleo.org/202412
DESCRIPTION:Sous le titre « Nouveaux territoires médiatiques »\, le Centre d'études sur les médias\, les technologies et l'internationalisation (CEMTI - EA 3388\, Université Paris 8) organise un séminaire mensuel dont l'objectif est d'analyser\, selon diverses appro… Weitere Informationen https://calenda-formation.labocleo.org/202412
LOCATION:Saint-Denis
END:VEVENT
END:VCALENDAR
