BEGIN:VCALENDAR
VERSION:2.0
PRODID:-//https://calenda-formation.labocleo.org
X-WR-CALNAME:Calenda
X-WR-TIMEZONE:Europe/Paris
CALSCALE:GREGORIAN
X-WR-CALDESC:O calendário de letras e de ciências sociais e humanas
METHOD:PUBLISH
BEGIN:VEVENT
DTSTART;VALUE=DATE:20101201
DTEND;VALUE=DATE:20101202
UID:202438-20101201@calenda.revues.org
SUMMARY:Recrutement d'un(e) chargé(e) de projet en sciences sociales
URL:https://calenda-formation.labocleo.org/202438
DESCRIPTION:L'Institut pour la ville en mouvement (IVM)\, association Loi 1901 créée en 2000 par le groupe PSA Peugeot Citroën\, ayant pour mission de contribuer à la réflexion sur le mouvement et la cité dans le but de favoriser la mobilité en ville sous toutes s… @plus_info https://calenda-formation.labocleo.org/202438
LOCATION:Paris
END:VEVENT
END:VCALENDAR
